<?xml version="1.0" encoding="UTF-8" standalone="no"?>
<metadata xml:lang="en">
<Esri>
<MetaID>{06146869-D40B-461A-9B13-3DECF0D06B60}</MetaID>
<CreaDate>20100727</CreaDate>
<CreaTime>00345700</CreaTime>
<SyncOnce>FALSE</SyncOnce>
<DataProperties>
<lineage>
<Process Date="20100727" Name="Terrain to Raster" Time="003457" ToolSource="C:\Program Files\ArcGIS\ArcToolbox\Toolboxes\3D Analyst Tools.tbx\TerrainToRaster">TerrainToRaster C:\Temp\SACTerrain.gdb\Terrain\Terrain_Terrain C:\Temp\sacdem2007_2ft.img FLOAT LINEAR "CELLSIZE 2" 0</Process>
<Process Date="20100727" Time="101030" ToolSource="C:\Program Files\ArcGIS\ArcToolbox\Toolboxes\Data Management Tools.tbx\CopyRaster">CopyRaster C:\Temp\sacdem2007_2ft.img C:\Workspace\SDE_CONNECTIONS\MDSDEGIS02\GEO@MDSDEGIS02_IMAGERY.sde\IMAGERY.GEO.SACDEM2007_2FOOT # # # NONE NONE #</Process>
</lineage>
</DataProperties>
<SyncDate>20100727</SyncDate>
<SyncTime>09052700</SyncTime>
<ModDate>20100727</ModDate>
<ModTime>09052700</ModTime>
</Esri>
<idinfo>
<native Sync="TRUE">Microsoft Windows Vista Version 6.1 (Build 7600) ; ESRI ArcCatalog 9.3.1.4000</native>
<descript>
<langdata Sync="TRUE">en</langdata>
<abstract>REQUIRED: A brief narrative summary of the data set.</abstract>
<purpose>REQUIRED: A summary of the intentions with which the data set was developed.</purpose>
</descript>
<citation>
<citeinfo>
<origin>REQUIRED: The name of an organization or individual that developed the data set.</origin>
<pubdate>REQUIRED: The date when the data set is published or otherwise made available for release.</pubdate>
<title Sync="TRUE">IMAGERY.GEO.SACDEM2007_2FOOT</title>
<ftname Sync="TRUE">IMAGERY.GEO.SACDEM2007_2FOOT</ftname>
<geoform Sync="TRUE">SDE raster digital data</geoform>
<onlink Sync="TRUE">Server=mdsdegis02; Service=sde:sqlserver:mdsdegis02; Database=imagery; User=geo; Version=sde.DEFAULT</onlink>
</citeinfo>
</citation>
<timeperd>
<current>REQUIRED: The basis on which the time period of content information is determined.</current>
<timeinfo>
<sngdate>
<caldate>REQUIRED: The year (and optionally month, or month and day) for which the data set corresponds to the ground.</caldate>
</sngdate>
</timeinfo>
</timeperd>
<status>
<progress>REQUIRED: The state of the data set.</progress>
<update>REQUIRED: The frequency with which changes and additions are made to the data set after the initial data set is completed.</update>
</status>
<spdom>
<bounding>
<westbc Sync="TRUE">-121.635994</westbc>
<eastbc Sync="TRUE">-121.016329</eastbc>
<northbc Sync="TRUE">38.740270</northbc>
<southbc Sync="TRUE">38.226601</southbc>
</bounding>
<lboundng>
<leftbc Sync="TRUE">6666233.682091</leftbc>
<rightbc Sync="TRUE">6842241.682091</rightbc>
<bottombc Sync="TRUE">1845851.812878</bottombc>
<topbc Sync="TRUE">2031623.812878</topbc>
</lboundng>
</spdom>
<keywords>
<theme>
<themekt>REQUIRED: Reference to a formally registered thesaurus or a similar authoritative source of theme keywords.</themekt>
<themekey>REQUIRED: Common-use word or phrase used to describe the subject of the data set.</themekey>
</theme>
</keywords>
<accconst>REQUIRED: Restrictions and legal prerequisites for accessing the data set.</accconst>
<useconst>REQUIRED: Restrictions and legal prerequisites for using the data set after access is granted.</useconst>
<natvform Sync="TRUE">SDE Raster Dataset</natvform>
</idinfo>
<dataIdInfo>
<envirDesc Sync="TRUE">Microsoft Windows Vista Version 6.1 (Build 7600) ; ESRI ArcCatalog 9.3.1.4000</envirDesc>
<dataLang>
<languageCode Sync="TRUE" value="en"/>
</dataLang>
<idCitation>
<resTitle Sync="TRUE">SAC_DEM2007_2FT</resTitle>
<presForm>
<PresFormCd Sync="TRUE" value="005"/>
</presForm>
</idCitation>
<spatRpType>
<SpatRepTypCd Sync="TRUE" value="002"/>
</spatRpType>
<dataExt>
<geoEle>
<GeoBndBox esriExtentType="native">
<westBL Sync="TRUE">6666233.682091</westBL>
<eastBL Sync="TRUE">6842241.682091</eastBL>
<northBL Sync="TRUE">2031623.812878</northBL>
<southBL Sync="TRUE">1845851.812878</southBL>
<exTypeCode Sync="TRUE">1</exTypeCode>
</GeoBndBox>
</geoEle>
</dataExt>
<geoBox esriExtentType="decdegrees">
<westBL Sync="TRUE">-121.635994</westBL>
<eastBL Sync="TRUE">-121.016329</eastBL>
<northBL Sync="TRUE">38.74027</northBL>
<southBL Sync="TRUE">38.226601</southBL>
<exTypeCode Sync="TRUE">1</exTypeCode>
</geoBox>
<idAbs/>
<idPurp/>
<idCredit/>
<resConst>
<Consts>
<useLimit/>
</Consts>
</resConst>
</dataIdInfo>
<metainfo>
<langmeta Sync="TRUE">en</langmeta>
<metstdn Sync="TRUE">FGDC Content Standards for Digital Geospatial Metadata</metstdn>
<metstdv Sync="TRUE">FGDC-STD-001-1998</metstdv>
<mettc Sync="TRUE">local time</mettc>
<metextns>
<onlink Sync="TRUE">http://www.esri.com/metadata/esriprof80.html</onlink>
<metprof Sync="TRUE">ESRI Metadata Profile</metprof>
</metextns>
<metc>
<cntinfo>
<cntorgp>
<cntper>REQUIRED: The person responsible for the metadata information.</cntper>
<cntorg>REQUIRED: The organization responsible for the metadata information.</cntorg>
</cntorgp>
<cntaddr>
<addrtype>REQUIRED: The mailing and/or physical address for the organization or individual.</addrtype>
<city>REQUIRED: The city of the address.</city>
<state>REQUIRED: The state or province of the address.</state>
<postal>REQUIRED: The ZIP or other postal code of the address.</postal>
</cntaddr>
<cntvoice>REQUIRED: The telephone number by which individuals can speak to the organization or individual.</cntvoice>
</cntinfo>
</metc>
<metd Sync="TRUE">20100727</metd>
</metainfo>
<mdLang>
<languageCode Sync="TRUE" value="en"/>
</mdLang>
<mdStanName Sync="TRUE">ISO 19115 Geographic Information - Metadata</mdStanName>
<mdStanVer Sync="TRUE">DIS_ESRI1.0</mdStanVer>
<mdChar>
<CharSetCd Sync="TRUE" value="004"/>
</mdChar>
<mdHrLv>
<ScopeCd Sync="TRUE" value="005"/>
</mdHrLv>
<mdHrLvName Sync="TRUE">dataset</mdHrLvName>
<distinfo>
<resdesc Sync="TRUE">Downloadable Data</resdesc>
</distinfo>
<distInfo>
<distributor>
<distorTran>
<onLineSrc>
<orDesc Sync="TRUE">002</orDesc>
<linkage Sync="TRUE">Server=mdsdegis02; Service=sde:sqlserver:mdsdegis02; Database=imagery; User=geo; Version=sde.DEFAULT</linkage>
<protocol Sync="TRUE">ArcSDE Connection</protocol>
</onLineSrc>
</distorTran>
<distorFormat>
<formatName Sync="TRUE">SDE Raster Dataset</formatName>
</distorFormat>
</distributor>
</distInfo>
<spdoinfo>
<direct Sync="TRUE">Raster</direct>
<rastinfo>
<rasttype Sync="TRUE">Pixel</rasttype>
<rowcount Sync="TRUE">92886</rowcount>
<colcount Sync="TRUE">88004</colcount>
<rastxsz Sync="TRUE">2.000000</rastxsz>
<rastysz Sync="TRUE">2.000000</rastysz>
<rastbpp Sync="TRUE">32</rastbpp>
<vrtcount Sync="TRUE">1</vrtcount>
<rastorig Sync="TRUE">Upper Left</rastorig>
<rastcmap Sync="TRUE">FALSE</rastcmap>
<rastcomp Sync="TRUE">LZ77</rastcomp>
<rastband Sync="TRUE">1</rastband>
<rastdtyp Sync="TRUE">pixel codes</rastdtyp>
<rastifor Sync="TRUE">SDR</rastifor>
<rastplyr Sync="TRUE">TRUE</rastplyr>
</rastinfo>
</spdoinfo>
<spref>
<horizsys>
<cordsysn>
<geogcsn Sync="TRUE">GCS_North_American_1983</geogcsn>
<projcsn Sync="TRUE">NAD_1983_StatePlane_California_II_FIPS_0402_Feet</projcsn>
</cordsysn>
<planar>
<mapproj>
<mapprojn Sync="TRUE">Lambert Conformal Conic</mapprojn>
<lambertc>
<stdparll Sync="TRUE">38.333333</stdparll>
<stdparll Sync="TRUE">39.833333</stdparll>
<longcm Sync="TRUE">-122.000000</longcm>
<latprjo Sync="TRUE">37.666667</latprjo>
<feast Sync="TRUE">6561666.666667</feast>
<fnorth Sync="TRUE">1640416.666667</fnorth>
</lambertc>
</mapproj>
<planci>
<plance Sync="TRUE">row and column</plance>
<plandu Sync="TRUE">survey feet</plandu>
<coordrep>
<absres Sync="TRUE">2.000000</absres>
<ordres Sync="TRUE">2.000000</ordres>
</coordrep>
</planci>
</planar>
<geodetic>
<horizdn Sync="TRUE">North American Datum of 1983</horizdn>
<ellips Sync="TRUE">Geodetic Reference System 80</ellips>
<semiaxis Sync="TRUE">6378137.000000</semiaxis>
<denflat Sync="TRUE">298.257222</denflat>
</geodetic>
</horizsys>
<vertdef>
<altsys>
<altenc Sync="TRUE">Explicit elevation coordinate included with horizontal coordinates</altenc>
<altres Sync="TRUE">1.000000</altres>
</altsys>
</vertdef>
</spref>
<refSysInfo>
<RefSystem>
<refSysID>
<identCode Sync="TRUE">NAD_1983_StatePlane_California_II_FIPS_0402_Feet</identCode>
</refSysID>
</RefSystem>
</refSysInfo>
<mdDateSt Sync="TRUE">20100727</mdDateSt>
</metadata>
